BEGIN:VCALENDAR
VERSION:2.0
PRODID:Events Booking
BEGIN:VEVENT
UID:69ea2ba891c0f
SUMMARY:Digital Global Infrastructure Dialogue - #GID2020 
DESCRIPTION:The Digital Global Infrastructure Dialogue 2020 will take place
  on the 8th - 9th of December (CET) and brings together the senior elite o
 f the infrastructure industry.&nbsp\;
 Unusual times require a different 
 approach. We therefore will offer the best&nbsp\; solution: a digital expe
 rience of the event.&nbsp\;
 We provide a forum for international decisio
 n makers in infrastructure to get together in a series of interactive sess
 ions\, 1:1 meetings and fire-side chats. Senior industry experts\, includi
 ng investors\, lenders\, developers and policy makers will be discussing t
 he latest global trends in infrastructure.
 Among the topics covered will
  be the latest investment strategies and bidding tactics\, investment oppo
 rtunities in energy\, Tech &amp\; Telco and transport infrastructure as we
 ll as insights from developers that secured funding for mature- and emergi
 ng market projects. What's the impact of the pandemic on the asset class?&
 nbsp\;
 &nbsp\;
LOCATION:Kennedyallee 70\, 60596 Frankfurt am Main\, Germany
DTSTART:20201208T000000Z
DTEND:20201209T000000Z
DTSTAMP:20260423T092440Z
ORGANIZER;CN=Dialogue Capital:MAILTO:finance@dialoguecapital.com
GEO:50.09723;8.66955
X-APPLE-STRUCTURED-LOCATION;VALUE=URI;X-ADDRESS=Kennedyallee 70\, 60596 Fra
 nkfurt am Main\, Germany;X-APPLE-RADIUS=72;X-TITLE=Villa Kennedy\, Rocco F
 orte Hotel:50.09723;8.66955
END:VEVENT
END:VCALENDAR