BEGIN:VCALENDAR
VERSION:2.0
PRODID:Events Booking
BEGIN:VEVENT
UID:69ea2bc6ac14f
SUMMARY:Global Infrastructure Dialogue #GID24 
DESCRIPTION:The Event for senior decision makers in real assets: Global Inf
 rastructure Dialogue 2024 will take place on 19th - 20th September in Fran
 kfurt\, Germany
  For more information about the event click on the titl
 e at the top to view more details.
 
  
 The Global Infrastructure Dia
 logue 2024 will take place on 19th - 20th September in Frankfurt and bring
 s together even more global senior movers and shakers of the infrastructur
 e and energy industry\, covering western regions as well as growth market
 s.
 Senior decision makers joining the Event cover areas such as: AI\, Ne
 xtGen\, ESG\, NetZero\, Impact Investing\, Private Debt\, Private Equity\,
  Real Estate\, Timberland\, Insurance &amp\; Risks\, Venture Capital\, new
  industry-trends\, Sustainable Aviation Fuel\, Waste-to-Energy\, Transport
 ation\, Digital Infrastructure\, Equity Investments\, Debt Investments\, P
 roject Finance\, New tech developments\, Climate Change\, Energy\, Gas and
  Biogas\, EV charging\, Mining\, as well as New Nuclear\, Emerging Markets
 \, Investments in EMEA and CEE as well as Africa and North America. 
  
 
 For email enquiries: info@dialoguecapital.com 
  
  
  
LOCATION:Opernpl. 16\, 60313 Frankfurt am Main\, Germany
DTSTART:20240918T230000Z
DTEND:20240919T230000Z
DTSTAMP:20260423T092510Z
ORGANIZER;CN=Dialogue Capital:MAILTO:finance@dialoguecapital.com
GEO:0;8.675875
X-APPLE-STRUCTURED-LOCATION;VALUE=URI;X-ADDRESS=Opernpl. 16\, 60313 Frankfu
 rt am Main\, Germany;X-APPLE-RADIUS=72;X-TITLE=Sofitel Opera\, Frankfurt:0
 ;8.675875
END:VEVENT
END:VCALENDAR