BEGIN:VCALENDAR
VERSION:2.0
PRODID:Events Booking
BEGIN:VEVENT
UID:69ea2f9c287fd
SUMMARY:Global Infrastructure Dialogue #GID2026
DESCRIPTION:Global Infrastructure Dialogue 2026
 For more information abou
 t the event click on the blue title of the Event at the top to view more d
 etails.
 The Global Infrastructure Dialogue 2026 (GID26)\, set against th
 e sophisticated backdrop of Sofitel Opera in Frankfurt\, Germany\, on June
  29th and 30th\, offers a premier gathering for senior decision-makers in 
 the realm of real assets. This exclusive event serves as a global forum\, 
 bringing together the most influential players in infrastructure—from se
 asoned investors and asset managers to lenders\, developers\, and policyma
 kers. See more about media coverage here. 
 As the landscape of infrastr
 ucture continues to evolve\, GID 2026 provides a unique platform for parti
 cipants to engage in interactive sessions\, one-on-one meetings\, and inti
 mate fireside chats. This dialogue is not merely an exchange of ideas\; it
  represents a strategic opportunity to shape the future of investment in v
 ital sectors that underpin our global economy.
  
 For email enquiries:
  info@dialoguecapital.com
LOCATION:Opernpl. 16\, 60313 Frankfurt am Main\, Germany
DTSTART:20260628T230000Z
DTEND:20260629T230000Z
DTSTAMP:20260423T094132Z
ORGANIZER;CN=Dialogue Capital:MAILTO:finance@dialoguecapital.com
GEO:0;8.675875
X-APPLE-STRUCTURED-LOCATION;VALUE=URI;X-ADDRESS=Opernpl. 16\, 60313 Frankfu
 rt am Main\, Germany;X-APPLE-RADIUS=72;X-TITLE=Sofitel Opera\, Frankfurt:0
 ;8.675875
END:VEVENT
END:VCALENDAR