BEGIN:VCALENDAR
VERSION:2.0
PRODID:Events Booking
BEGIN:VEVENT
UID:69ea2ed5cc46f
SUMMARY:German Real Estate Dialogue - #GRED2026
DESCRIPTION:German Real Estate Dialogue (GReD) 2026 – From Outlooks to An
 swers
 On 10 November 2026 in Frankfurt\, GReD brings together a curated 
 group of senior investors\, lenders\, and developers.
 Following strong f
 eedback from the previous edition\, GReD continues as a working forum for 
 decision-makers\, focused on execution—how deals are structured and capi
 tal is deployed.
 Deal-driven. Curated. Senior-only.
 For those shaping 
 the market—not observing it.
 Dialogue Capital
 
 German Real Estate 
 Dialogue (GReD) 2026 – From Outlooks to Answers
 Am 10. November 2026 i
 n Frankfurt bringt GReD eine kuratierte Gruppe führender Investoren\, Fin
 anzierer und Entwickler zusammen.
 Nach sehr positivem Feedback der letzt
 en Veranstaltung bleibt GReD ein Arbeitsformat für Entscheidungsträger 
 – mit Fokus auf Umsetzung\, Transaktionen und Kapitalallokation.
 Deal-
 orientiert. Kuratiert. Senior-only.
 Für diejenigen\, die den Markt gest
 alten – nicht nur beobachten.
 Dialogue Capital
LOCATION:Opernpl. 16\, 60313 Frankfurt am Main\, Germany
DTSTART:20261110T000000Z
DTEND:20261110T000000Z
DTSTAMP:20260423T093813Z
ORGANIZER;CN=Dialogue Capital:MAILTO:finance@dialoguecapital.com
GEO:0;8.675875
X-APPLE-STRUCTURED-LOCATION;VALUE=URI;X-ADDRESS=Opernpl. 16\, 60313 Frankfu
 rt am Main\, Germany;X-APPLE-RADIUS=72;X-TITLE=Sofitel Opera\, Frankfurt:0
 ;8.675875
END:VEVENT
END:VCALENDAR